BEGIN:VCALENDAR
VERSION:2.0
PRODID:-// - ECPv6.15.17.1//NONSGML v1.0//EN
CALSCALE:GREGORIAN
METHOD:PUBLISH
X-ORIGINAL-URL:https://shinoragems.com
X-WR-CALDESC:Events for 
REFRESH-INTERVAL;VALUE=DURATION:PT1H
X-Robots-Tag:noindex
X-PUBLISHED-TTL:PT1H
BEGIN:VTIMEZONE
TZID:UTC
BEGIN:STANDARD
TZOFFSETFROM:+0000
TZOFFSETTO:+0000
TZNAME:UTC
DTSTART:20230101T000000
END:STANDARD
END:VTIMEZONE
BEGIN:VEVENT
DTSTART;VALUE=DATE:20240909
DTEND;VALUE=DATE:20240914
DTSTAMP:20260423T111850
CREATED:20260314T161239Z
LAST-MODIFIED:20260314T161653Z
UID:5929-1725840000-1726271999@shinoragems.com
SUMMARY:70th Bangkok Gems & Jewelery Fair
DESCRIPTION:The event exceeded expectations with total purchase orders reaching the target of almost 100 million USD and nearly 40\,000 attendees from around the world. The two organizers have committed to an even grander event next year\, with plans to expand the exhibition area by over 100 additional booths.
URL:https://shinoragems.com/event/70th-bangkok-gems-jewelery-fair/
ATTACH;FMTTYPE=image/jpeg:https://shinoragems.com/wp-content/uploads/2026/03/70th-bankok.jpg
END:VEVENT
END:VCALENDAR